BEGIN:VCALENDAR
VERSION:2.0
PRODID:-//Winston&#039;s Wish Events - ECPv6.15.17//NONSGML v1.0//EN
CALSCALE:GREGORIAN
METHOD:PUBLISH
X-WR-CALNAME:Winston&#039;s Wish Events
X-ORIGINAL-URL:https://events.winstonswish.org
X-WR-CALDESC:Events for Winston&#039;s Wish Events
REFRESH-INTERVAL;VALUE=DURATION:PT1H
X-Robots-Tag:noindex
X-PUBLISHED-TTL:PT1H
BEGIN:VTIMEZONE
TZID:Europe/London
BEGIN:DAYLIGHT
TZOFFSETFROM:+0000
TZOFFSETTO:+0100
TZNAME:BST
DTSTART:20230326T010000
END:DAYLIGHT
BEGIN:STANDARD
TZOFFSETFROM:+0100
TZOFFSETTO:+0000
TZNAME:GMT
DTSTART:20231029T010000
END:STANDARD
BEGIN:DAYLIGHT
TZOFFSETFROM:+0000
TZOFFSETTO:+0100
TZNAME:BST
DTSTART:20240331T010000
END:DAYLIGHT
BEGIN:STANDARD
TZOFFSETFROM:+0100
TZOFFSETTO:+0000
TZNAME:GMT
DTSTART:20241027T010000
END:STANDARD
BEGIN:DAYLIGHT
TZOFFSETFROM:+0000
TZOFFSETTO:+0100
TZNAME:BST
DTSTART:20250330T010000
END:DAYLIGHT
BEGIN:STANDARD
TZOFFSETFROM:+0100
TZOFFSETTO:+0000
TZNAME:GMT
DTSTART:20251026T010000
END:STANDARD
BEGIN:DAYLIGHT
TZOFFSETFROM:+0000
TZOFFSETTO:+0100
TZNAME:BST
DTSTART:20260329T010000
END:DAYLIGHT
BEGIN:STANDARD
TZOFFSETFROM:+0100
TZOFFSETTO:+0000
TZNAME:GMT
DTSTART:20261025T010000
END:STANDARD
BEGIN:DAYLIGHT
TZOFFSETFROM:+0000
TZOFFSETTO:+0100
TZNAME:BST
DTSTART:20270328T010000
END:DAYLIGHT
BEGIN:STANDARD
TZOFFSETFROM:+0100
TZOFFSETTO:+0000
TZNAME:GMT
DTSTART:20271031T010000
END:STANDARD
END:VTIMEZONE
BEGIN:VEVENT
DTSTART;TZID=Europe/London:20260412T080000
DTEND;TZID=Europe/London:20260412T170000
DTSTAMP:20260423T114306
CREATED:20250425T135024Z
LAST-MODIFIED:20251026T203807Z
UID:6383-1775980800-1776013200@events.winstonswish.org
SUMMARY:Brighton Marathon 2026
DESCRIPTION:12th April 2026\nJoin Team Winston for the 2026 Brighton Marathon! \nAgainst the stunning backdrop of the sea and in one of the UK’s most vibrant cities\, the Brighton Marathon is not to be missed! The race gets bigger and better every year with a free bag drop\, drinks stations to keep you hydrated\, distance markers and pace settings to keep you on track and a free Beach Village at the end where you can celebrate with family and friends. \n\nDate: Sunday 12th April 2026\nRegistration fee: £25\nMinimum sponsorship: £400\n\nOur charity places are now full! But you can still join Team Winston and run to support grieving children and young people if you already have a place. Just click the ‘I have my own place’ button below to let us know so we can support you (and send your Team Winston merch!). \nPlease click here for terms and conditions. Please visit the Brighton Marathon website for the event terms and conditions. \nI have my own placeWhat you’ll get from us\n\nA Winston’s Wish running vest\nCharity branded headband\nCharity branded beanie\nSupport from our dedicated Sports and Challenges Officer\nAccess to training app from our partners GH Training\nFundraising resources\nAccess to our ‘Team Winston’ Facebook group
URL:https://events.winstonswish.org/event/brighton-marathon-2026/
LOCATION:Brighton
CATEGORIES:Marathons
ATTACH;FMTTYPE=image/jpeg:https://events.winstonswish.org/wp-content/uploads/2025/04/Brighton-Marathon.jpg
END:VEVENT
BEGIN:VEVENT
DTSTART;TZID=Europe/London:20260412T080000
DTEND;TZID=Europe/London:20260412T170000
DTSTAMP:20260423T114306
CREATED:20250404T141354Z
LAST-MODIFIED:20250530T163729Z
UID:6322-1775980800-1776013200@events.winstonswish.org
SUMMARY:London Landmarks Half 2026
DESCRIPTION:12th April 2026\nJoin Team Winston for the 2026 London Landmarks Half Marathon! \nTaking place on closed roads through central London\, it is the only half marathon to go through both the City of London and City of Westminster. \nFrom cultural landmarks and heritage to the city’s quirky and hidden secrets\, runners will get to explore the capital on a route like no other! 10\,000 runners will start on Pall Mall\, will finish by Downing Street and take in fabulous views of London’s most iconic landmarks including Big Ben\, St Paul’s Cathedral\, Nelson’s Column\, the Gherkin\, the Shard\, the Tower of London and the London Eye along the way. \n\nDate: Sunday 12th April 2026\nRegistration fee: £25\nMinimum sponsorship: £350\n\nAll our charity places have been filled! But you can still run for Team Winston if you already have a place. Just click the button below to let us know you want to join the team! \nPlease click here for terms and conditions. Please view the London Landmarks website for the event terms and conditions. \nI have my own placeWhat you’ll get from us\n\nA Winston’s Wish running vest\nCharity branded headband\nSupport from our Cheer Squad\nSupport from our dedicated Sports and Challenges Officer\nAccess to training app from our partners GH Training\nFundraising resources\nAccess to our ‘Team Winston’ Facebook group
URL:https://events.winstonswish.org/event/london-landmarks-half-2026/
LOCATION:London
CATEGORIES:Marathons
ATTACH;FMTTYPE=image/jpeg:https://events.winstonswish.org/wp-content/uploads/2025/04/London-Landmarks-Half-Winston-Bear.jpg
END:VEVENT
BEGIN:VEVENT
DTSTART;VALUE=DATE:20260412
DTEND;VALUE=DATE:20260413
DTSTAMP:20260423T114306
CREATED:20250813T145132Z
LAST-MODIFIED:20250814T082500Z
UID:6587-1775952000-1776038399@events.winstonswish.org
SUMMARY:Milano Marathon
DESCRIPTION:Join Team Winston for the Milano Marathon! \nThe Wizz Air Milano Marathon returns on Sunday 12th April 2026 with an event that’s even richer\, more inclusive\, and more engaging: a true running festival that welcomes over 40\,000 participants every year\, including marathoners\, relay teams\, families\, and running enthusiasts. \nAt the heart of it all is Italy’s fastest marathon: 42.195 km through the vibrant heart of Milan\, along a course that touches the city’s most iconic landmarks. Run where the city’s heart beats. Run where everything becomes possible. Run the Milan Marathon for Winston’s Wish and give hope to grieving children and young people. \nDate: Sunday 12th April 2026 \nRegistration Fee: £35 \nMinimum Sponsorship: £500 \n*Costs are for entry to the race only and not travel or accommodation. \nSign upStill not convinced? Check out this unique race below:  \n \nWhat you’ll get from us: \nAs a #TeamWinston runner\, we’ll be there every step of the way to help you through the race and get you pumped for running for Winston’s Wish. \n\nA branded Winston’s Wish running vest\nCharity branded headband\nAccess to training app from our partners GH Training\nSupport from our dedicated Sports and Challenges Officer\nFundraising resources\nAccess to our ‘Team Winston’ Facebook group\n\nSign up
URL:https://events.winstonswish.org/event/milan-marathon/
CATEGORIES:Marathons,New for 2025,Running
ATTACH;FMTTYPE=image/jpeg:https://events.winstonswish.org/wp-content/uploads/2025/08/Milano-Marathon-Winstons-Wish-events.jpg
END:VEVENT
BEGIN:VEVENT
DTSTART;VALUE=DATE:20260315
DTEND;VALUE=DATE:20260316
DTSTAMP:20260423T114306
CREATED:20221020T154902Z
LAST-MODIFIED:20260106T153941Z
UID:3707-1773532800-1773619199@events.winstonswish.org
SUMMARY:Bath Half Marathon
DESCRIPTION:Join Team Winston for the Bath Half Marathon! \nThe route is fast\, flat and suitable for new and regular runners alike. Running right through the heart of this beautiful world heritage city\, past iconic buildings and taking in both sides of the river Avon\, the route gives runners a great opportunity to push for a personal best time. You can look forward to the incredible crowd support that the Bath Half is famous for\, and fantastic local bands will be playing at nine different locations along the route! \n\nDate: Sunday 15th March 2026\nRegistration Fee: £25\nMinimum Sponsorship: £300\n\nOur charity places for 2026 are now sold out! If you already have a place you can join Team Winston by clicking the ‘I have a place’ button. If you’re interested in applying for a charity place for 2027\, click the button below to email us on events@winstonswish.org \nRegister interest for 2027 Bath HalfI have my own placeWhat you’ll get from us: \n\nCharity branded top\nSupport from our dedicated Sports and Challenges Officer\nAccess to training app from our partners GH Training\nFundraising resources\nAccess to our ‘Team Winston’ Facebook group\n\nAs a #TeamWinston runner\, we’ll be there every step of the way to help you through the race and get you pumped for running for Winston’s Wish.
URL:https://events.winstonswish.org/event/bath-half-marathon/
CATEGORIES:Marathons
ATTACH;FMTTYPE=image/jpeg:https://events.winstonswish.org/wp-content/uploads/2019/06/Bath-Half-Marathon.jpg
END:VEVENT
BEGIN:VEVENT
DTSTART;VALUE=DATE:20251206
DTEND;VALUE=DATE:20251207
DTSTAMP:20260423T114306
CREATED:20251002T143322Z
LAST-MODIFIED:20251003T151719Z
UID:6673-1764979200-1765065599@events.winstonswish.org
SUMMARY:Battersea Park 5K and 10K
DESCRIPTION:Beat your PB the Battersea Park Half Marathon in 2025! \nJoin us on Saturday 6th December for the Battersea Park 5K or 10k. A flat\, fast and scenic route through one of London’s iconic parks\, it’s the perfect place to beat your personal best in festive fancy dress. Starting an finishing at the Millennium Arena\, the course laps the park making it easy to follow and great for any spectators to catch you flying around the course. You will receive a Santa hat to wear with your Winston’s Wish running vest! \nBattersea Park 5K \n\nDate: Saturday 6th December\nRegistration Fee: £10\nMinimum Sponsorship: £100\n\nBattersea Park 10K \n\nDate: Saturday 6th December\nRegistration Fee: £10\nMinimum Sponsorship: £150\n\nSign up for Battersea 5KSign up for Battersea 10KStill not convinced? Check out this incredible race below:  \n \nWhat you’ll get from us: \nAs a #TeamWinston runner\, we’ll be there every step of the way to help you through the race and get you pumped for running for Winston’s Wish. \n\nSanta hat\nA branded Winston’s Wish running vest\nCharity branded headband\nAccess to training app from our partners GH Training\nSupport from our dedicated Sports and Challenges Officer\nFundraising resources\nAccess to our ‘Team Winston’ Facebook group
URL:https://events.winstonswish.org/event/battersea-park-5k-10k/
LOCATION:Battersea Park
CATEGORIES:Marathons,Running
ATTACH;FMTTYPE=image/jpeg:https://events.winstonswish.org/wp-content/uploads/2025/10/Battersea-Park-5K-10K.jpg
END:VEVENT
BEGIN:VEVENT
DTSTART;VALUE=DATE:20251115
DTEND;VALUE=DATE:20251117
DTSTAMP:20260423T114306
CREATED:20251002T161920Z
LAST-MODIFIED:20251003T151552Z
UID:6668-1763164800-1763337599@events.winstonswish.org
SUMMARY:Run Alton Towers 5K\, 10K and Half Marathon
DESCRIPTION:Join Team Winston for the Run Alton Towers 5K\, 10K and Half Marathon! \nCome and join us for the Alton Towers 5K\, 10K or Half Marathon at the UK’s largest theme park on Saturday 15th and Sunday 16th November 2025. You are guaranteed a great day out with theme park entry and access to all the rides included in your entry!! \nThe route will be clearly marked out with flags and mile markers and there will be plenty of helpers along the course to keep you on track and encourage you all the way to the finish line. \nRun the Alton Towers 5K\, 10K or Half Marathon for Winston’s Wish and give hope to grieving children and young people. \nRun Alton Towers 5K: \n\nDate: Sunday 16th November 2026\nRegistration Fee: £10\nMinimum Sponsorship: £100\n\nRun Alton Towers 10K: \n\nDate: Saturday 15th November 2026\nRegistration Fee: £10\nMinimum Sponsorship: £150\n\nRun Alton Towers Half Marathon: \n\nDate: Sunday 16th November 2026\nRegistration Fee: £25\nMinimum Sponsorship: £250\n\nSign up for Run Alton 5KSign up for Run Alton 10KSign up for Run Alton Half MarathonStill not convinced? Check out this unique race below:  \n \nWhat you’ll get from us: \nAs a #TeamWinston runner\, we’ll be there every step of the way to help you through the race and get you pumped for running for Winston’s Wish. \n\nA branded Winston’s Wish running vest\nCharity branded headband\nAccess to training app from our partners GH Training\nSupport from our dedicated Sports and Challenges Officer\nFundraising resources\nAccess to our ‘Team Winston’ Facebook group\n\nSign up for Run Alton 5KSign up for Run Alton 10KSign up for Run Alton Half Marathon
URL:https://events.winstonswish.org/event/run-alton-towers/
LOCATION:Alton Towers
CATEGORIES:Marathons,Running
ATTACH;FMTTYPE=image/jpeg:https://events.winstonswish.org/wp-content/uploads/2025/10/Run-Alton-Towers.jpg
END:VEVENT
BEGIN:VEVENT
DTSTART;VALUE=DATE:20250927
DTEND;VALUE=DATE:20250928
DTSTAMP:20260423T114306
CREATED:20250213T115933Z
LAST-MODIFIED:20250319T153210Z
UID:5922-1758931200-1759017599@events.winstonswish.org
SUMMARY:Battersea Park Half Marathon
DESCRIPTION:Beat your PB the Battersea Park Half Marathon in 2025! \nThe famed Battersea Park is one of London’s most picturesque parks and long since been a favourite for runners shooting to beat their PB! This flat course gives you the opportunity to surpass your goals\, push yourself further and smash your personal best. \nDate: Saturday 27th September \nRegistration Fee: £15 \nMinimum Sponsorship: £200 \nStarting and finishing at the parks bandstand\, you’ll do a complete lap of the park\, making it easy to follow and great for spectators to catch you flying around. \nSign upStill not convinced? Check out this incredible race below:  \n \nWhat you’ll get from us: \nAs a #TeamWinston runner\, we’ll be there every step of the way to help you through the race and get you pumped for running for Winston’s Wish. \n\nA branded Winston’s Wish running vest\nCharity branded headband\nAccess to training app from our partners GH Training\nSupport from our dedicated Sports and Challenges Officer\nFundraising resources\nAccess to our ‘Team Winston’ Facebook group\n\nSign up
URL:https://events.winstonswish.org/event/battersea-park-half-marathon/
CATEGORIES:25 in 2025,Marathons,New for 2025
ATTACH;FMTTYPE=image/jpeg:https://events.winstonswish.org/wp-content/uploads/2025/02/Battersea-Park-Running-e1739447943848.jpg
END:VEVENT
BEGIN:VEVENT
DTSTART;VALUE=DATE:20250907
DTEND;VALUE=DATE:20250908
DTSTAMP:20260423T114306
CREATED:20250328T121628Z
LAST-MODIFIED:20250328T121719Z
UID:6287-1757203200-1757289599@events.winstonswish.org
SUMMARY:Thorpe Park 10k
DESCRIPTION:Join Team Winston for the return of the Run Thorpe Park 10k this September! \nRun 10k around the rides and rollercoasters inside the fantastic Thorpe Park resort\, a unique place to take on a 10k challenge! After you cross the finish line you can be first in line to enjoy everything the resort has to offer – all entries to the race also include entry to Thorpe Park Resort for the full day! \nDate: Sunday 7th September \nRegistration Fee: £10 \nMinimum Sponsorship: £150 \nSign upStill not convinced? Check out this unique race below:  \n \nWhat you’ll get from us: \nAs a #TeamWinston runner\, we’ll be there every step of the way to help you through the race and get you pumped for running for Winston’s Wish. \n\nA branded Winston’s Wish running vest\nCharity branded headband\nAccess to training app from our partners GH Training\nSupport from our dedicated Sports and Challenges Officer\nFundraising resources\nAccess to our ‘Team Winston’ Facebook group\n\nSign up
URL:https://events.winstonswish.org/event/thorpe-park-10k/
LOCATION:Thorpe Park Resort
CATEGORIES:Marathons,New for 2025,Running
ATTACH;FMTTYPE=image/jpeg:https://events.winstonswish.org/wp-content/uploads/2025/03/Run-for-Winstons-Wish.jpg
END:VEVENT
BEGIN:VEVENT
DTSTART;VALUE=DATE:20250907
DTEND;VALUE=DATE:20250908
DTSTAMP:20260423T114306
CREATED:20241004T103139Z
LAST-MODIFIED:20250829T101202Z
UID:5558-1757203200-1757289599@events.winstonswish.org
SUMMARY:The Big Half 2025
DESCRIPTION:Explore the heart of London in a vibrant half marathon!\nJoin thousands of other participants in this spectacular half marathon event through the heart of London. The Big Half is a vibrant\, inclusive half marathon with a fun\, festival atmosphere. \nThe Big Half is great for novices and experienced participants alike\, the course winds its way through the capital from Tower Bridge to the iconic Cutty Sark. Come for the finisher’s medal or to celebrate London’s diversity. \nDate: Sunday 7th September \nRegistration fee: £10 \nMinimum sponsorship: £300  \nOur charity places have now SOLD OUT! But you can still join #TeamWinston if you already have your own place. Simply\, click the button below to let us know you’re running for Winston’s Wish. You can also now register your interest in a charity place for The Big Half 2026. \nI have my own placeRegister for The Big Half 2026What you’ll get from us\n\nA branded Winston’s Wish running vest\nCharity branded headband\nAccess to training app from our partners GH Training\nSupport from our dedicated Sports and Challenges Officer\nFundraising resources\nAccess to our ‘Team Winston’ Facebook group
URL:https://events.winstonswish.org/event/the-big-half-2025/
CATEGORIES:25 in 2025,Challenges,Marathons,New for 2025,Running
ATTACH;FMTTYPE=image/jpeg:https://events.winstonswish.org/wp-content/uploads/2024/10/Tower-Bridge-Image-e1727952361532.jpg
END:VEVENT
BEGIN:VEVENT
DTSTART;VALUE=DATE:20250427
DTEND;VALUE=DATE:20250428
DTSTAMP:20260423T114306
CREATED:20240419T081418Z
LAST-MODIFIED:20250225T112237Z
UID:5215-1745712000-1745798399@events.winstonswish.org
SUMMARY:London Marathon 2025
DESCRIPTION:27th April 2025\nThe TCS London Marathon is one of the world’s best-known marathons and needs no introduction. For thousands of people\, the London Marathon 2025 is on their ‘must-do’ list. \nJoin Team Winston to run the London Marathon 2025 and raise money for Winston’s Wish to help us support grieving children across the UK. \nPlease click here for the terms & conditions. \nPlease view the TCS London Marathon 2025 website for the event terms and conditions. \nOur charity places have now been filled! If you’ve already got a place\, why not run for #TeamWinston and help support bereaved children and young people. Let us know by clicking the button below.  \nI have my own place\nWhat you’ll get from us\n\nA Winston’s Wish running vest\nCharity branded headband\nSupport from our Cheer Squad\nAccess to training app from our partners GH Training\nSupport from our dedicated Sports and Challenges Officer\nFundraising resources\nAccess to our ‘Team Winston’ Facebook group
URL:https://events.winstonswish.org/event/london-marathon-2025/
CATEGORIES:25 in 2025,Marathons
ATTACH;FMTTYPE=image/jpeg:https://events.winstonswish.org/wp-content/uploads/2018/10/London-Marathon-e1722250648176.jpg
END:VEVENT
BEGIN:VEVENT
DTSTART;VALUE=DATE:20240526
DTEND;VALUE=DATE:20240527
DTSTAMP:20260423T114306
CREATED:20231127T173653Z
LAST-MODIFIED:20241216T091321Z
UID:4821-1716681600-1716767999@events.winstonswish.org
SUMMARY:Great Manchester Run
DESCRIPTION:26th May 2024\nIn true Mancunian style\, it’s a party from start to finish\, with a high-energy soundtrack\, live music and entertainment zones at every turn – plus\, some of the loudest and most enthusiastic local support we’ve seen anywhere in the UK. A great run and incredible experience from the start line to the finish line! \nRegistration: £25 \nMinimum sponsorship: £250 \nIf you’d like to apply for one of our charity places please fill in the form below\, or if you have your own place and would like to fundraise for us\, please let us know via the “I have my own place” form. \nGet a charity placeI have my own placeWhat you’ll get from us\n\nA branded Winston’s Wish running vest\nCharity branded shoelaces\nTraining support and resources from our training partner GH Training including access to a training app\nSupport from our dedicated Sports and Challenges Officer\nFundraising resources\nAccess to our ‘Team Winston’ Facebook group for fundraising ideas\, training tips and motivational stories
URL:https://events.winstonswish.org/event/great-manchester-run/
CATEGORIES:25 in 2025,Marathons
ATTACH;FMTTYPE=image/jpeg:https://events.winstonswish.org/wp-content/uploads/2023/11/manchester.jpg
END:VEVENT
END:VCALENDAR