BEGIN:VCALENDAR
VERSION:2.0
PRODID:-//Winston&#039;s Wish Events - ECPv6.15.17//NONSGML v1.0//EN
CALSCALE:GREGORIAN
METHOD:PUBLISH
X-WR-CALNAME:Winston&#039;s Wish Events
X-ORIGINAL-URL:https://events.winstonswish.org
X-WR-CALDESC:Events for Winston&#039;s Wish Events
REFRESH-INTERVAL;VALUE=DURATION:PT1H
X-Robots-Tag:noindex
X-PUBLISHED-TTL:PT1H
BEGIN:VTIMEZONE
TZID:Europe/London
BEGIN:DAYLIGHT
TZOFFSETFROM:+0000
TZOFFSETTO:+0100
TZNAME:BST
DTSTART:20250330T010000
END:DAYLIGHT
BEGIN:STANDARD
TZOFFSETFROM:+0100
TZOFFSETTO:+0000
TZNAME:GMT
DTSTART:20251026T010000
END:STANDARD
BEGIN:DAYLIGHT
TZOFFSETFROM:+0000
TZOFFSETTO:+0100
TZNAME:BST
DTSTART:20260329T010000
END:DAYLIGHT
BEGIN:STANDARD
TZOFFSETFROM:+0100
TZOFFSETTO:+0000
TZNAME:GMT
DTSTART:20261025T010000
END:STANDARD
BEGIN:DAYLIGHT
TZOFFSETFROM:+0000
TZOFFSETTO:+0100
TZNAME:BST
DTSTART:20270328T010000
END:DAYLIGHT
BEGIN:STANDARD
TZOFFSETFROM:+0100
TZOFFSETTO:+0000
TZNAME:GMT
DTSTART:20271031T010000
END:STANDARD
END:VTIMEZONE
BEGIN:VEVENT
DTSTART;VALUE=DATE:20260620
DTEND;VALUE=DATE:20260621
DTSTAMP:20260424T002114
CREATED:20251128T121616Z
LAST-MODIFIED:20260331T141534Z
UID:7023-1781913600-1781999999@events.winstonswish.org
SUMMARY:Chase the Sun UK North
DESCRIPTION:Ride the best scenic cycling roads in Scotland whilst fundraising for Winston’s Wish!\nRegister for this UK North cycling sportive to experience breathtaking landscapes and quiet roads for over 200 miles from the beachfront at Whitley Bay at the first ray of ocean sunrise to the esplanade at Ayr to witness the (hopefully glorious) sunsetting into the sea beside the Isle of Arran. A coast to coast cycle full of stunning vistas\, wilderness\, heaths\, rivers\, lochs\, castles and beaches\, a challenge to inspire you when pedalling the longest day.  \nRegistration fee: £79 (plus booking fees) \nMinimum sponsorship: £400 \nWinston’s Wish and Child Bereavement UK are merging to strengthen the support available for bereaved children\, young people\, parents and families across the UK. In the coming weeks\, Winston’s Wish will change its name to Child Bereavement UK. By taking on Chase the Sun UK North you will still be raising money to support grieving children\, young people and families\, but the charity you will be fundraising for will be called Child Bereavement UK. \nSign upWhat you’ll get from us: \n\nA welcome email and fundraising pack\nA branded top to wear on the day\nSupport from our dedicated team to help you achieve your target\nAdditional fundraising resources upon request\nAccess to training app by our partners at GH Training\ne-newsletters with news from across the charity\n\nSign up
URL:https://events.winstonswish.org/event/chase-the-sun-uk-north/
CATEGORIES:Cycling,Fundraising
ATTACH;FMTTYPE=image/jpeg:https://events.winstonswish.org/wp-content/uploads/2025/11/Chase-the-sun-UK-North-.jpg
END:VEVENT
BEGIN:VEVENT
DTSTART;VALUE=DATE:20260620
DTEND;VALUE=DATE:20260621
DTSTAMP:20260424T002114
CREATED:20251128T122954Z
LAST-MODIFIED:20260331T102022Z
UID:7031-1781913600-1781999999@events.winstonswish.org
SUMMARY:Chase the Sun UK South
DESCRIPTION:Ride a diverse route of green pastures and charming villages whilst fundraising for Winston’s Wish!\nRegister for this UK South cycling sportive to experience a diverse cross-section of the city\, country and history. Starting in the Thames estuary\, the 200+ mile route bi-sects south London\, bridging the Thames onto Wiggin’s Olympic time trial route\, before seeking green country lanes\, quaint villages\, the lush Vale of Pewsey\, climbing the Mendip hills\, descending breathtaking Cheddar gorge\, finally arriving on the seafront at Weston-Super-Mare.​ \nRegistration fee: £79 (plus booking fees) \nMinimum sponsorship: £400 \nWinston’s Wish and Child Bereavement UK are merging to strengthen the support available for bereaved children\, young people\, parents and families across the UK. In the coming weeks\, Winston’s Wish will change its name to Child Bereavement UK. By taking on Chase the Sun UK South you will still be raising money to support grieving children\, young people and families\, but the charity you will be fundraising for will be called Child Bereavement UK. \nSign upWhat you’ll get from us:\n\nA welcome email and fundraising pack\nA branded top to wear on the day\nSupport from our dedicated team to help you achieve your target\nAdditional fundraising resources upon request\nAccess to training app by our partners at GH Training\ne-newsletters with news from across the charity\n\nSign up
URL:https://events.winstonswish.org/event/chase-the-sun-uk-south/
CATEGORIES:Cycling,Fundraising
ATTACH;FMTTYPE=image/jpeg:https://events.winstonswish.org/wp-content/uploads/2025/11/Chase-the-Sun-UK-South-1-1.jpg
END:VEVENT
END:VCALENDAR