BEGIN:VCALENDAR
VERSION:2.0
PRODID:-//Winston&#039;s Wish Events - ECPv6.15.17//NONSGML v1.0//EN
CALSCALE:GREGORIAN
METHOD:PUBLISH
X-ORIGINAL-URL:https://events.winstonswish.org
X-WR-CALDESC:Events for Winston&#039;s Wish Events
REFRESH-INTERVAL;VALUE=DURATION:PT1H
X-Robots-Tag:noindex
X-PUBLISHED-TTL:PT1H
BEGIN:VTIMEZONE
TZID:Europe/London
BEGIN:DAYLIGHT
TZOFFSETFROM:+0000
TZOFFSETTO:+0100
TZNAME:BST
DTSTART:20250330T010000
END:DAYLIGHT
BEGIN:STANDARD
TZOFFSETFROM:+0100
TZOFFSETTO:+0000
TZNAME:GMT
DTSTART:20251026T010000
END:STANDARD
BEGIN:DAYLIGHT
TZOFFSETFROM:+0000
TZOFFSETTO:+0100
TZNAME:BST
DTSTART:20260329T010000
END:DAYLIGHT
BEGIN:STANDARD
TZOFFSETFROM:+0100
TZOFFSETTO:+0000
TZNAME:GMT
DTSTART:20261025T010000
END:STANDARD
BEGIN:DAYLIGHT
TZOFFSETFROM:+0000
TZOFFSETTO:+0100
TZNAME:BST
DTSTART:20270328T010000
END:DAYLIGHT
BEGIN:STANDARD
TZOFFSETFROM:+0100
TZOFFSETTO:+0000
TZNAME:GMT
DTSTART:20271031T010000
END:STANDARD
END:VTIMEZONE
BEGIN:VEVENT
DTSTART;VALUE=DATE:20260425
DTEND;VALUE=DATE:20260427
DTSTAMP:20260425T112723
CREATED:20231127T173308Z
LAST-MODIFIED:20260109T135625Z
UID:4818-1777075200-1777247999@events.winstonswish.org
SUMMARY:Spring Wolf Run
DESCRIPTION:Take on this epic obstacle course and support grieving children through Winston’s Wish.\nImmerse yourself in the thrill of wild running. Whether you’re up for an epic obstacle course\, an awesome trail run through rugged terrain\, or a family-friendly fitness adventure\, the Wolf Run has something for every kind of runner. Choose from four unique events that challenge\, excite and bring people together. Go it alone or run with your Wolf Pack. Whatever your style\, you’ll power through nature\, push your limits\, and finish with a buzz that stays with you long after the mud has dried – all whilst fundraising for Winston’s Wish. \nSpring Wolf kicks off the season in Warwickshire\, it’s the perfect event to train for after the winter break. Taking place over the Saturday and Sunday\, with the Trails and the Junior runs for 7-17 year olds on the Sunday. \nRegistration fees: 10k £80 | 5k £45 | Juniors (7-17 years) £35 | Trail 3K £20 | Trail 5K £25 | Trail 10K £35 \nDistance: 10k | 5k | Juniors (7-17 years) 3K and 6K | Trail 3K\, 5K and 10K \nMinimum sponsorship: there is no target\, just raise what you can. Every penny will help make a difference to the children and young people we support. \nClick below to sign up through The Wolf Run website. \nSign upWhat you’ll get from us:\n\nCharity branded top\nSupport from our dedicated Sports and Challenges Officer\nAccess to training app from our partners GH Training\nFundraising resources\nAccess to our ‘Team Winston’ Facebook group\n\nSign up
URL:https://events.winstonswish.org/event/spring-wolf-run/
CATEGORIES:Challenges,Fundraising,Marathons,Running
ATTACH;FMTTYPE=image/jpeg:https://events.winstonswish.org/wp-content/uploads/2023/11/Wolf-Run-mud.jpg
END:VEVENT
BEGIN:VEVENT
DTSTART;VALUE=DATE:20260613
DTEND;VALUE=DATE:20260615
DTSTAMP:20260425T112723
CREATED:20251202T164204Z
LAST-MODIFIED:20260331T101501Z
UID:7117-1781308800-1781481599@events.winstonswish.org
SUMMARY:Summer Wolf Run
DESCRIPTION:This summer take on the infamous Wolf Run Mud Sucker obstacle and fundraise for Winston’s Wish.\nThe Summer Wolf Run takes place at one of the most epic venues the UK has to offer. It has all the ingredients for the ideal off-road obstacle course coupled with a buzzing event village to enjoy with your friends and family whilst fundraising for Winston’s Wish. \nSet in the grounds of the striking Stanford Hall estate\, Leicestershire\, wild springs and dense woodland make this course both beautiful and challenging. Intricate trails\, lakes and streams are combined with impressive man made structures to provide you with a full body work out. The infamous Mud Sucker obstacle is the highlight for many Wolf Runners… drawing out the pack support mentality in all. \nTaking place over the Saturday and Sunday\, with the Trails and the Junior runs for 7-17 year olds on the Sunday. \nRegistration fees: 10k £69 | 5k £35 | Juniors (7-17 years) £29 | Trail 3K £15 | Trail 5K £20 | Trail 10K £30 \nDistance: 10k | 5k | Juniors (7-17 years) 3K and 6K | Trail 3K\, 5K and 10K \nMinimum sponsorship: there is no target\, just raise what you can. Every penny will help make a difference to the children and young people we support. \nClick below to sign up through The Wolf Run website. \nWinston’s Wish and Child Bereavement UK are merging to strengthen the support available for bereaved children\, young people\, parents and families across the UK. In the coming weeks\, Winston’s Wish will change its name to Child Bereavement UK. By taking on the Summer Wolf Run you will still be raising money to support grieving children\, young people and families\, but the charity you will be fundraising for will be called Child Bereavement UK. \nSign upWhat you’ll get from us:\n\nA welcome email and fundraising pack\nA branded top to wear on the day\nSupport from our dedicated team to help you achieve your target\nAdditional fundraising resources upon request\nAccess to training app by our partners at GH Training\ne-newsletters with news from across the charity\n\nSign up
URL:https://events.winstonswish.org/event/summer-wolf-run/
CATEGORIES:Challenges,Fundraising,Running
ATTACH;FMTTYPE=image/jpeg:https://events.winstonswish.org/wp-content/uploads/2023/11/Wolf-Run-slide.jpg
END:VEVENT
END:VCALENDAR